BEGIN:VCALENDAR
VERSION:2.0
PRODID:-//eventon.com NONSGML v1.0//EN
CALSCALE:GREGORIAN
METHOD:PUBLISH
BEGIN:VEVENT
UID:69e781b3bd4d7
DTSTAMP:20260421T135459Z
DTSTART:20260405T120000Z
DTEND:20260405T150000Z
LOCATION:Café licht. Rheinstr. 29/1\,  69126 Heidelberg
SUMMARY:Ostergottesdienst mit Taufen
DESCRIPTION:Ostern feiern – persönlich\,  nah und mitten im Leben. In en
 tspannter Café-Atmosphäre erleben wir einen Gottesdienst voller Hoffnung 
 und feiern Taufen als Zeichen für Neuanfang und Segen. Ein besonderer Mome
 nt für Familien\,  Freund*innen und alle\,  die Ostern neu entdecken möch
 ten. Gestaltet vom CVJM Heidelberg-Mitte e.V. – einer jungen Gemeinschaft
  mit[..]\nhttps://heidelbergerostern.de/archives/events/ostergottesdienst-m
 it-taufen
URL:https://heidelbergerostern.de/archives/events/ostergottesdienst-mit-taufen
END:VEVENT
END:VCALENDAR