BEGIN:VCALENDAR
VERSION:2.0
PRODID:-//eventon.com NONSGML v1.0//EN
CALSCALE:GREGORIAN
METHOD:PUBLISH
BEGIN:VEVENT
UID:69e781f64fcba
DTSTAMP:20260421T135606Z
DTSTART:20260404T120000Z
DTEND:20260404T150000Z
LOCATION:Café licht. Rheinstr. 29/1\,  69126 Heidelberg
SUMMARY:Osterfeuer
DESCRIPTION:Gemeinsam am Feuer stehen\,  den Frühling spüren und die beso
 ndere Atmosphäre des Nachmittags genießen. Am Karsamstag laden wir zum Os
 terfeuer ein – mit Zeit für Begegnung\,  guten Gesprächen und offenen T
 üren im Café. Ein lebendiger Treffpunkt für Familien\,  Freund*innen und
  alle aus dem Stadtteil. Organisiert vom CVJM Heidelberg-Mitte e.V. –[..]
 \nhttps://heidelbergerostern.de/archives/events/osterfeuer
URL:https://heidelbergerostern.de/archives/events/osterfeuer
END:VEVENT
END:VCALENDAR