BEGIN:VCALENDAR
VERSION:2.0
PRODID:-//eventon.com NONSGML v1.0//EN
CALSCALE:GREGORIAN
METHOD:PUBLISH
BEGIN:VEVENT
UID:69e782c9ec773
DTSTAMP:20260421T135937Z
DTSTART:20260405T083000Z
DTEND:20260405T100000Z
LOCATION:Mosaik Kirche in St. Michael (Frei Ev.) Kirschgartenstraße 35\,  69126 Heidelberg
SUMMARY:Musicalaufführung und Familiengottesdienst
DESCRIPTION:Ob Alt oder Jung\,  mit oder ohne Kinder – alle sind herzlich
  eingeladen. Wir bestaunen ein Ostermusical und hören eine kindgerechte\, 
  leicht verständliche Osterbotschaft. Im Anschluss kommen wir zum gemeinsa
 men Mittagessen zusammen. Eine Anmeldung ist nicht erforderlich. Fragen ger
 ne an info@mosaik-heidelberg.de.\nhttps://heidelbergerostern.de/archives/ev
 ents/musicalauffuehrung-und-familiengottesdienst
URL:https://heidelbergerostern.de/archives/events/musicalauffuehrung-und-familiengottesdienst
END:VEVENT
END:VCALENDAR