BEGIN:VCALENDAR
VERSION:2.0
PRODID:-//eventon.com NONSGML v1.0//EN
CALSCALE:GREGORIAN
METHOD:PUBLISH
BEGIN:VEVENT
UID:69e78194400b8
DTSTAMP:20260421T135428Z
DTSTART:20260405T080000Z
DTEND:20260405T093000Z
LOCATION:Freie Evangelische Gemeinde (FeG) Haberstr. 19\,  69126 Heidelberg
SUMMARY:Auferstehungsgottesdienst
DESCRIPTION:Auch Familien sind herzlich eingeladen. Wir bieten Kinderbetreu
 ung an und haben einen Babyraum.\nhttps://heidelbergerostern.de/archives/ev
 ents/auferstehungsgottesdienst
URL:https://heidelbergerostern.de/archives/events/auferstehungsgottesdienst
END:VEVENT
END:VCALENDAR