BEGIN:VCALENDAR
VERSION:2.0
PRODID:-//eventon.com NONSGML v1.0//EN
CALSCALE:GREGORIAN
METHOD:PUBLISH
BEGIN:VEVENT
UID:69e78279eb033
DTSTAMP:20260421T135817Z
DTSTART:20260403T080000Z
DTEND:20260403T093000Z
LOCATION:Freie Evangelische Gemeinde (FeG) Haberstr. 19\,  69126 Heidelberg
SUMMARY:Karfreitagsgottesdienst
DESCRIPTION:Auch Familien sind herzlich eingeladen. Wir bieten Kinderbetreu
 ung an und haben einen Babyraum.\nhttps://heidelbergerostern.de/archives/ev
 ents/karfreitagsgottesdienst-2
URL:https://heidelbergerostern.de/archives/events/karfreitagsgottesdienst-2
END:VEVENT
END:VCALENDAR