BEGIN:VCALENDAR
VERSION:2.0
PRODID:-//eventon.com NONSGML v1.0//EN
CALSCALE:GREGORIAN
METHOD:PUBLISH
BEGIN:VEVENT
UID:69e782eb83cfa
DTSTAMP:20260421T140011Z
DTSTART:20260405T080000Z
DTEND:20260405T094500Z
LOCATION:Hoffnungskirche – Evangelisch-freikirchliche Gemeinde Feuerbachstr. 4\,  69126 Heidelberg
SUMMARY:Familiengottesdienst mit Taufen
DESCRIPTION:Eine Anmeldung ist nicht erforderlich.\nhttps://heidelbergerost
 ern.de/archives/events/familiengottesdienst-mit-taufen
URL:https://heidelbergerostern.de/archives/events/familiengottesdienst-mit-taufen
END:VEVENT
END:VCALENDAR