BEGIN:VCALENDAR
VERSION:2.0
PRODID:-//eventon.com NONSGML v1.0//EN
CALSCALE:GREGORIAN
METHOD:PUBLISH
BEGIN:VEVENT
UID:69e781b3bf138
DTSTAMP:20260421T135459Z
DTSTART:20260405T070000Z
DTEND:20260405T080000Z
LOCATION:Hoffnungskirche – Evangelisch-freikirchliche Gemeinde Feuerbachstr. 4\,  69126 Heidelberg
SUMMARY:Osterfrühstück
DESCRIPTION:Ostern heißt bei uns: Alle sind eingeladen! Kommt und genießt
  ein leckeres Frühstück in bunter Gemeinschaft. Kinderstühle sind vorhan
 den. Eine Anmeldung hilft uns bei der Planung: info@efg-heidelberg.de\nhttp
 s://heidelbergerostern.de/archives/events/osterfruehstueck-3
URL:https://heidelbergerostern.de/archives/events/osterfruehstueck-3
END:VEVENT
END:VCALENDAR