BEGIN:VCALENDAR
VERSION:2.0
PRODID:-//eventon.com NONSGML v1.0//EN
CALSCALE:GREGORIAN
METHOD:PUBLISH
BEGIN:VEVENT
UID:69e7812083f79
DTSTAMP:20260421T135232Z
DTSTART:20260403T093000Z
DTEND:20260403T103000Z
LOCATION:Mosaik Kirche in St. Michael (Frei Ev.) Kirschgartenstraße 35\,  69126 Heidelberg
SUMMARY:Kinderkreuzweg
DESCRIPTION:Wir laden alle herzlich ein\,  gemeinsam den Kinderkreuzweg zu 
 gehen. Die Kinder spielen dabei die handelnden Personen – von Jesus und d
 en Jüngern über die Hohen Priester und Pontius Pilatus bis hin zur Schäd
 elstätte – und gehen den Stationen voraus\,  während das „Volk“ fol
 gt. So wird die Passionsgeschichte lebendig und[..]\nhttps://heidelbergeros
 tern.de/archives/events/kinderkreuzweg
URL:https://heidelbergerostern.de/archives/events/kinderkreuzweg
END:VEVENT
END:VCALENDAR