BEGIN:VCALENDAR
VERSION:2.0
PRODID:-//eventon.com NONSGML v1.0//EN
CALSCALE:GREGORIAN
METHOD:PUBLISH
BEGIN:VEVENT
UID:69e7823a6e7d8
DTSTAMP:20260421T135714Z
DTSTART:20260330T070000Z
DTEND:20260402T093000Z
LOCATION:Mosaik Kirche in St. Michael (Frei Ev.) Kirschgartenstraße 35\,  69126 Heidelberg
SUMMARY:Ostermusical Freizeit
DESCRIPTION:Wir üben gemeinsam mitreißende Lieder\,  und wer möchte\,  k
 ann zusätzlich eine Theaterrolle oder einen Tanz einstudieren. Gemeinsam w
 erden wir ein starkes Musical mit einer Botschaft von Hoffnung und Leben ru
 nd um Ostern auf die Bühne bringen! Die Proben finden vom 30.03. – -02.0
 4. und am 04.04. Statt. Am Ende der[..]\nhttps://heidelbergerostern.de/arch
 ives/events/ostermusical-freizeit/var/ri-1.l-L1
URL:https://heidelbergerostern.de/archives/events/ostermusical-freizeit/var/ri-1.l-L1
END:VEVENT
END:VCALENDAR