BEGIN:VCALENDAR
VERSION:2.0
PRODID:-//eventon.com NONSGML v1.0//EN
CALSCALE:GREGORIAN
METHOD:PUBLISH
BEGIN:VEVENT
UID:69e7815730727
DTSTAMP:20260421T135327Z
DTSTART:20260403T080000Z
DTEND:20260403T084500Z
LOCATION:Kath. Kirche St. Teresa Mühlweg 11\,  69118 Heidelberg
SUMMARY:Kreuzweg für Kinder
DESCRIPTION:Wir gehen den Weg von Jesus zum Kreuz nach und versuchen auch u
 nter dem Kreuz\,  Spuren der Hoffnung zu entdecken\nhttps://heidelbergerost
 ern.de/archives/events/kreuzweg-fuer-kinder-2
URL:https://heidelbergerostern.de/archives/events/kreuzweg-fuer-kinder-2
END:VEVENT
END:VCALENDAR