BEGIN:VCALENDAR
VERSION:2.0
PRODID:-//eventon.com NONSGML v1.0//EN
CALSCALE:GREGORIAN
METHOD:PUBLISH
BEGIN:VEVENT
UID:69e782692f25a
DTSTAMP:20260421T135801Z
DTSTART:20260402T130000Z
DTEND:20260402T134500Z
LOCATION:Kath. Kirche St. Teresa Mühlweg 11\,  69118 Heidelberg
SUMMARY:Abendmahlsandacht für Familien
DESCRIPTION:Am Tag vor seinem Tod feierte Jesus mit seinen Freunden das Abe
 ndmahl.\nhttps://heidelbergerostern.de/archives/events/abendmahlsandacht-fu
 er-familien-3
URL:https://heidelbergerostern.de/archives/events/abendmahlsandacht-fuer-familien-3
END:VEVENT
END:VCALENDAR