BEGIN:VCALENDAR
VERSION:2.0
PRODID:-//eventon.com NONSGML v1.0//EN
CALSCALE:GREGORIAN
METHOD:PUBLISH
BEGIN:VEVENT
UID:69e7823a94dfe
DTSTAMP:20260421T135714Z
DTSTART:20260405T080000Z
DTEND:20260405T084500Z
LOCATION:Evang. Kreuzkirche Mannheimer Str. 254\,  69123 Heidelberg
SUMMARY:Ökumenischer Kindergottesdienst
DESCRIPTION:Ökumenischer Kindergottesdienst\nhttps://heidelbergerostern.de
 /archives/events/oekumenischer-kindergottesdienst
URL:https://heidelbergerostern.de/archives/events/oekumenischer-kindergottesdienst
END:VEVENT
END:VCALENDAR