BEGIN:VCALENDAR
VERSION:2.0
PRODID:-//eventon.com NONSGML v1.0//EN
CALSCALE:GREGORIAN
METHOD:PUBLISH
BEGIN:VEVENT
UID:69e78119b003d
DTSTAMP:20260421T135225Z
DTSTART:20260404T160000Z
DTEND:20260404T180000Z
LOCATION:Kath. Kirche St. Vitus Steubenstraße 70\,  69121 Heidelberg
SUMMARY:Osternachtfeier für Kinder
DESCRIPTION:Der Ostergottesdienst entfaltet einen großen Spannungsbogen: v
 on der Dunkelheit zum Licht\,  vom Tod zum Leben.\nhttps://heidelbergeroste
 rn.de/archives/events/osternachtfeier-fuer-kinder
URL:https://heidelbergerostern.de/archives/events/osternachtfeier-fuer-kinder
END:VEVENT
END:VCALENDAR