BEGIN:VCALENDAR
VERSION:2.0
PRODID:-//eventon.com NONSGML v1.0//EN
CALSCALE:GREGORIAN
METHOD:PUBLISH
BEGIN:VEVENT
UID:69e7826f639cb
DTSTAMP:20260421T135807Z
DTSTART:20260403T150000Z
DTEND:20260403T160000Z
LOCATION:Kath. Kirche St. Vitus Steubenstraße 70\,  69121 Heidelberg
SUMMARY:Ökum. Kreuzweg für Familien
DESCRIPTION:Kinder sind zum Familien zum Kinderkreuzweg mit Pfrin. Veronika
  Kurlberg eingeladen. Wir folgen auf Jesu Spuren bis zum Kreuz. Bei Regen s
 ind wir in der St. Vitus-Kirche.\nhttps://heidelbergerostern.de/archives/ev
 ents/oekum-kreuzweg-fuer-familien
URL:https://heidelbergerostern.de/archives/events/oekum-kreuzweg-fuer-familien
END:VEVENT
END:VCALENDAR