BEGIN:VCALENDAR
VERSION:2.0
PRODID:-//eventon.com NONSGML v1.0//EN
CALSCALE:GREGORIAN
METHOD:PUBLISH
BEGIN:VEVENT
UID:69e7821109d8f
DTSTAMP:20260421T135633Z
DTSTART:20260403T130000Z
DTEND:20260403T140000Z
LOCATION:Kath. Kirche St. Bonifatius Am Wilhelmsplatz\,  69115 Heidelberg
SUMMARY:NI.KO - Karfreitagsliturgie
DESCRIPTION:‚Wieso? Weshalb? Warum?‘ – Mit dieser Fragestellung feier
 t das Geistliche Zentrum der Stadtkirche NI.KO in diesem Jahr das Triduum (
 Gründonnerstag\,  Karfreitag\,  Osternacht) in St. Bonifatius.\nhttps://he
 idelbergerostern.de/archives/events/ni-ko-karfreitagsliturgie
URL:https://heidelbergerostern.de/archives/events/ni-ko-karfreitagsliturgie
END:VEVENT
END:VCALENDAR