BEGIN:VCALENDAR
VERSION:2.0
PRODID:-//eventon.com NONSGML v1.0//EN
CALSCALE:GREGORIAN
METHOD:PUBLISH
BEGIN:VEVENT
UID:69e7828d54a36
DTSTAMP:20260421T135837Z
DTSTART:20260405T090000Z
DTEND:20260405T093000Z
LOCATION:Kath. Kirche St. Bonifatius Am Wilhelmsplatz\,  69115 Heidelberg
SUMMARY:Kleinkindgottesdienst
DESCRIPTION:Kleinkindgottesdienst\nhttps://heidelbergerostern.de/archives/e
 vents/kleinkindgottesdienst
URL:https://heidelbergerostern.de/archives/events/kleinkindgottesdienst
END:VEVENT
END:VCALENDAR