BEGIN:VCALENDAR
VERSION:2.0
PRODID:-//eventon.com NONSGML v1.0//EN
CALSCALE:GREGORIAN
METHOD:PUBLISH
BEGIN:VEVENT
UID:69e782111cc96
DTSTAMP:20260421T135633Z
DTSTART:20260403T090000Z
DTEND:20260403T094500Z
LOCATION:Kath. Christkönigkirche Rudolf-Wild-Straße 51\,  69214 Eppelheim
SUMMARY:Kreuzweg für Kinder
DESCRIPTION:Wir gehen den Weg von Jesus zum Kreuz nach und versuchen auch u
 nter dem Kreuz\,  Spuren der Hoffnung zu entdecken\nhttps://heidelbergerost
 ern.de/archives/events/kreuzweg-fuer-kinder
URL:https://heidelbergerostern.de/archives/events/kreuzweg-fuer-kinder
END:VEVENT
END:VCALENDAR