BEGIN:VCALENDAR
VERSION:2.0
PRODID:-//eventon.com NONSGML v1.0//EN
CALSCALE:GREGORIAN
METHOD:PUBLISH
BEGIN:VEVENT
UID:69e781de86178
DTSTAMP:20260421T135542Z
DTSTART:20260405T080000Z
DTEND:20260405T090000Z
LOCATION:Kath. Kirche St. Marien Schützenstr. 19\,  69123 Heidelberg
SUMMARY:Eucharistiefeier - Familiengottesdienst mit Osterüberraschung für Kinder
DESCRIPTION:Eucharistiefeier - Familiengottesdienst mit Osterüberraschung 
 für Kinder\nhttps://heidelbergerostern.de/archives/events/eucharistiefeier
 -familiengottesdienst-mit-osterueberraschung-fuer-kinder
URL:https://heidelbergerostern.de/archives/events/eucharistiefeier-familiengottesdienst-mit-osterueberraschung-fuer-kinder
END:VEVENT
END:VCALENDAR