BEGIN:VCALENDAR
VERSION:2.0
PRODID:-//eventon.com NONSGML v1.0//EN
CALSCALE:GREGORIAN
METHOD:PUBLISH
BEGIN:VEVENT
UID:69e78199d8a85
DTSTAMP:20260421T135433Z
DTSTART:20260403T090000Z
DTEND:20260403T094500Z
LOCATION:Kath. Kirche St. Peter Lochheimer Straße 39\,  69124 Heidelberg
SUMMARY:Ökumenischer Kreuzweg für Kinder
DESCRIPTION:Start: Kath. Kirche St. Peter\,  Ziel: Evang. Gemeindehaus Arch
 e\,  An verschiedenen Stationen erinnern wir uns an den Weg von Jesus. Dabe
 i hören wir Geschichten\,  singen und beten. Der Kinderkreuzweg wird gemei
 nsam von der evangelischen und der katholischen Gemeinde vorbereitet. Pfr.i
 n Christiane Bindseil\,  Past.Ref. Claus Herting Zielgruppe: 5 bis 12jähri
 ge\,  ältere[..]\nhttps://heidelbergerostern.de/archives/events/oekumenisc
 her-kreuzweg-fuer-kinder
URL:https://heidelbergerostern.de/archives/events/oekumenischer-kreuzweg-fuer-kinder
END:VEVENT
END:VCALENDAR