BEGIN:VCALENDAR
VERSION:2.0
PRODID:-//eventon.com NONSGML v1.0//EN
CALSCALE:GREGORIAN
METHOD:PUBLISH
BEGIN:VEVENT
UID:69e78119b0061
DTSTAMP:20260421T135225Z
DTSTART:20260403T100000Z
DTEND:20260403T100000Z
LOCATION:Kath. Kirche St. Paul Buchwaldweg 2\,  69126 Heidelberg
SUMMARY:Kinderkreuzwegfeier
DESCRIPTION:Die letzten Tage Jesu (nach)gehen. Gemeinsam machen wir uns auf
  den Weg durch die Kirche und erinnern an die Erlebnisse von Jesu auf dem W
 eg nach Ostern. An den Stationen gibt es kleine Mitmachaktionen und zwische
 ndurch Musik. Der gemeinsame Abschluss findet draußen vor der Kirche statt
 . Veranstalter: Evangelische Lukasgemeinde und[..]\nhttps://heidelbergerost
 ern.de/archives/events/kinderkreuzwegfeier
URL:https://heidelbergerostern.de/archives/events/kinderkreuzwegfeier
END:VEVENT
END:VCALENDAR