BEGIN:VCALENDAR
VERSION:2.0
PRODID:-//eventon.com NONSGML v1.0//EN
CALSCALE:GREGORIAN
METHOD:PUBLISH
BEGIN:VEVENT
UID:69e7826f3912b
DTSTAMP:20260421T135807Z
DTSTART:20260402T150000Z
DTEND:20260402T154500Z
LOCATION:Kath. Kirche St. Albert Bergheimer Straße 108\,  69115 Heidelberg
SUMMARY:Abendmahlsandacht für Familien
DESCRIPTION:Am Tag vor seinem Tod feierte Jesus mit seinen Freunden das Abe
 ndmahl.\nhttps://heidelbergerostern.de/archives/events/abendmahlsandacht-fu
 er-familien
URL:https://heidelbergerostern.de/archives/events/abendmahlsandacht-fuer-familien
END:VEVENT
END:VCALENDAR