BEGIN:VCALENDAR
VERSION:2.0
PRODID:-//eventon.com NONSGML v1.0//EN
CALSCALE:GREGORIAN
METHOD:PUBLISH
BEGIN:VEVENT
UID:69e78269219de
DTSTAMP:20260421T135801Z
DTSTART:20260330T160000Z
DTEND:20260401T160000Z
LOCATION:Café Bohne Glatzerstr. 31\,  69124 Heidelberg
SUMMARY:Café Bohne
DESCRIPTION:Kommt vorbei\,  allein oder mit lieben Menschen\,  mit oder ohn
 e Kinder\,  und lasst die Seele baumeln.\nhttps://heidelbergerostern.de/arc
 hives/events/cafe-bohne
URL:https://heidelbergerostern.de/archives/events/cafe-bohne
END:VEVENT
END:VCALENDAR