BEGIN:VCALENDAR
VERSION:2.0
PRODID:-//eventon.com NONSGML v1.0//EN
CALSCALE:GREGORIAN
METHOD:PUBLISH
BEGIN:VEVENT
UID:69e78217c0622
DTSTAMP:20260421T135639Z
DTSTART:20260406T090000Z
DTEND:20260406T090000Z
LOCATION:Evang. Johanneskirche Lutherstraße 65\,  69120 Heidelberg
SUMMARY:Familiengottesdienst
DESCRIPTION:Gottesdienst für Klein und Groß mit Taufe &#8211; Jesus ist a
 uferstanden\,  österliche Fröhlichkeit breitet aus. Ein feierlicher Gotte
 sdienst für alle Generationen. Liturgische Gestaltung Pfarrerin Kurlberg\n
 https://heidelbergerostern.de/archives/events/familiengottesdienst-2
URL:https://heidelbergerostern.de/archives/events/familiengottesdienst-2
END:VEVENT
END:VCALENDAR