BEGIN:VCALENDAR
VERSION:2.0
PRODID:-//eventon.com NONSGML v1.0//EN
CALSCALE:GREGORIAN
METHOD:PUBLISH
BEGIN:VEVENT
UID:69e78279ec266
DTSTAMP:20260421T135817Z
DTSTART:20260406T073000Z
DTEND:20260406T093000Z
LOCATION:Evang. Markushaus Rheinstraße 29\,  69126 Heidelberg
SUMMARY:Osterfrühstück mit Familienandacht und Nestersuche
DESCRIPTION:Gemeinsam frühstücken\,  lachen und Ostern feiern: Beim Oster
 frühstück ist Zeit für Begegnung und Austausch. Eine kurze Familienandac
 ht gibt dem Morgen eine besondere Note. Offen für alle Generationen.\nhttp
 s://heidelbergerostern.de/archives/events/osterfruehstueck-mit-familienanda
 cht-und-nestersuche
URL:https://heidelbergerostern.de/archives/events/osterfruehstueck-mit-familienandacht-und-nestersuche
END:VEVENT
END:VCALENDAR