BEGIN:VCALENDAR
VERSION:2.0
PRODID:-//eventon.com NONSGML v1.0//EN
CALSCALE:GREGORIAN
METHOD:PUBLISH
BEGIN:VEVENT
UID:69e783195f4e9
DTSTAMP:20260421T140057Z
DTSTART:20260406T083000Z
DTEND:20260406T083000Z
LOCATION:Providenzgarten
SUMMARY:Osterfrühstück und Andacht
DESCRIPTION:Osterfrühstück mit Posaunenchor und Ostereiersuchen im Provid
 enzgarten (Pfrin. I. Diepen)\nhttps://heidelbergerostern.de/archives/events
 /andacht
URL:https://heidelbergerostern.de/archives/events/andacht
END:VEVENT
END:VCALENDAR