BEGIN:VCALENDAR
VERSION:2.0
PRODID:-//eventon.com NONSGML v1.0//EN
CALSCALE:GREGORIAN
METHOD:PUBLISH
BEGIN:VEVENT
UID:69e781943dd99
DTSTAMP:20260421T135428Z
DTSTART:20260404T150000Z
DTEND:20260404T160000Z
LOCATION:Friedhof Neuenheim Quinckestraße 67\,  69120 Heidelberg
SUMMARY:Friedhofsandacht
DESCRIPTION:Vorösterliche Andachtauf dem Friedhof in Gebärden- und Lautsp
 rache. Veranstalter: Landespfarramt für Gehörlose und Schwerhörige\nhttp
 s://heidelbergerostern.de/archives/events/friedhofsandacht
URL:https://heidelbergerostern.de/archives/events/friedhofsandacht
END:VEVENT
END:VCALENDAR