BEGIN:VCALENDAR
VERSION:2.0
PRODID:-//eventon.com NONSGML v1.0//EN
CALSCALE:GREGORIAN
METHOD:PUBLISH
BEGIN:VEVENT
UID:69e78217c60f7
DTSTAMP:20260421T135639Z
DTSTART:20260405T080000Z
DTEND:20260405T090000Z
LOCATION:Evang. Petruskirche Hegenichstr. 13\,  69124 Heidelberg
SUMMARY:Gottesdienst für kleine und große Menschen
DESCRIPTION:Wir singen\,  spielen und tanzen in diesem Gottesdienst\,  wir 
 freuen uns und feiern\,  dass Jesus lebt. Im Anschluss dürfen die Kinder i
 m Kirchpark kleine Ostergeschenke suchen. Pfr.in Christiane Bindseil\nhttps
 ://heidelbergerostern.de/archives/events/gottesdienst-fuer-kleine-und-gross
 e-menschen
URL:https://heidelbergerostern.de/archives/events/gottesdienst-fuer-kleine-und-grosse-menschen
END:VEVENT
END:VCALENDAR