BEGIN:VCALENDAR
VERSION:2.0
PRODID:-//eventon.com NONSGML v1.0//EN
CALSCALE:GREGORIAN
METHOD:PUBLISH
BEGIN:VEVENT
UID:69e7815702b8b
DTSTAMP:20260421T135327Z
DTSTART:20260405T080000Z
DTEND:20260405T090000Z
LOCATION:Evang. Melanchthonkirche Am Heiligenhaus 14\,  69126 Heidelberg
SUMMARY:Ostersonntag Familiengottesdienst
DESCRIPTION:Familiengottesdienst mit Taufe\,  anschl. Eiersuche\nhttps://he
 idelbergerostern.de/archives/events/ostersonntag-familienottesdienst
URL:https://heidelbergerostern.de/archives/events/ostersonntag-familienottesdienst
END:VEVENT
END:VCALENDAR