BEGIN:VCALENDAR
VERSION:2.0
PRODID:-//eventon.com NONSGML v1.0//EN
CALSCALE:GREGORIAN
METHOD:PUBLISH
BEGIN:VEVENT
UID:69e781206da1c
DTSTAMP:20260421T135232Z
DTSTART:20260405T083000Z
DTEND:20260405T103000Z
LOCATION:Evang. Lutherkirche (Hosanna-Gemeinde) Vangerowstraße 5\,  69115 Heidelberg
SUMMARY:Gottesdienst
DESCRIPTION:Feier der Auferstehung von Jesus Christus mit Kindergottesdiens
 t in drei Altersgruppen\,  fröhlicher Lobpreiszeit und Predigt zur Auferst
 ehung\nhttps://heidelbergerostern.de/archives/events/gottesdienst-3
URL:https://heidelbergerostern.de/archives/events/gottesdienst-3
END:VEVENT
END:VCALENDAR