BEGIN:VCALENDAR
VERSION:2.0
PRODID:-//eventon.com NONSGML v1.0//EN
CALSCALE:GREGORIAN
METHOD:PUBLISH
BEGIN:VEVENT
UID:69e781f648b62
DTSTAMP:20260421T135606Z
DTSTART:20260403T130000Z
DTEND:20260403T143000Z
LOCATION:Evang. Lutherkirche (Hosanna-Gemeinde) Vangerowstraße 5\,  69115 Heidelberg
SUMMARY:Gottesdienst mit Abendmahl
DESCRIPTION:Gottesdienst mit Abendmahl zur Todesstunde von Jesus um 15.00 U
 hr\,  mit Liedern aus der Matthäus-Passion und Lobpreiszeit\nhttps://heide
 lbergerostern.de/archives/events/gottesdienst-mit-abendmahl
URL:https://heidelbergerostern.de/archives/events/gottesdienst-mit-abendmahl
END:VEVENT
END:VCALENDAR