BEGIN:VCALENDAR
VERSION:2.0
PRODID:-//eventon.com NONSGML v1.0//EN
CALSCALE:GREGORIAN
METHOD:PUBLISH
BEGIN:VEVENT
UID:69e781de8c819
DTSTAMP:20260421T135542Z
DTSTART:20260405T080000Z
DTEND:20260405T090000Z
LOCATION:Evang. Kreuzkirche Mannheimer Str. 254\,  69123 Heidelberg
SUMMARY:Ostergottesdienst
DESCRIPTION:Der Herr ist auferstanden&#8230;! Festliche Klänge des CrossOv
 erChores werden im Hauptgottesdienst am Ostersonntag zu hören sein. Festli
 ch &#8211; fröhlich &#8211; feierlich! Mit Abendmahl. Parallel: Ök. Kinde
 rgottesdienst. Im Anschluss gibt es wieder Ostereier zu suchen und zu finde
 n.\nhttps://heidelbergerostern.de/archives/events/ostergottesdienst
URL:https://heidelbergerostern.de/archives/events/ostergottesdienst
END:VEVENT
END:VCALENDAR