BEGIN:VCALENDAR
VERSION:2.0
PRODID:-//eventon.com NONSGML v1.0//EN
CALSCALE:GREGORIAN
METHOD:PUBLISH
BEGIN:VEVENT
UID:69e78199d942b
DTSTAMP:20260421T135433Z
DTSTART:20260405T083000Z
DTEND:20260405T093000Z
LOCATION:Evang. Gemeindezentrum Lukasgemeinde Boxbergring 101\,  69126 Heidelberg
SUMMARY:Oster-Familiengottesdienst
DESCRIPTION:Ein bunter Familiengottesdienst fÃ¼r Alle am gedeckten FrÃ¼hstÃ
 ¼ckstisch. Wir staunen Ã¼ber die Ostergeschichte\,  singen\,  feiern und wo
 llen die Osterfreude miteinander teilen. Mit Spielecke.\nhttps://heidelberg
 erostern.de/archives/events/oster-familiengottesdienst
URL:https://heidelbergerostern.de/archives/events/oster-familiengottesdienst
END:VEVENT
END:VCALENDAR