BEGIN:VCALENDAR
VERSION:2.0
PRODID:-//eventon.com NONSGML v1.0//EN
CALSCALE:GREGORIAN
METHOD:PUBLISH
BEGIN:VEVENT
UID:69e782e73268f
DTSTAMP:20260421T140007Z
DTSTART:20260406T080000Z
DTEND:20260406T090000Z
LOCATION:Evang. Gemeindehaus Arche Glatzerstr. 31\,  69124 Heidelberg
SUMMARY:Familiengottesdienst am Ostermontag
DESCRIPTION:Nach all dem Osterjubel kommen wir noch einmal zusammen zu eine
 m etwas ruhigeren Gottesdienst und spüren dem nach: was bedeutet die Aufer
 stehung Jesu für mich\,  für uns? Prädikant Dietrich Dancker\nhttps://he
 idelbergerostern.de/archives/events/familiengottesdienst-am-ostermontag
URL:https://heidelbergerostern.de/archives/events/familiengottesdienst-am-ostermontag
END:VEVENT
END:VCALENDAR